BEGIN:VCALENDAR
VERSION:2.0
PRODID:-//Maislabyrinth Erfurt - ECPv6.15.15//NONSGML v1.0//EN
CALSCALE:GREGORIAN
METHOD:PUBLISH
X-WR-CALNAME:Maislabyrinth Erfurt
X-ORIGINAL-URL:https://maislabyrinth-erfurt.de
X-WR-CALDESC:Veranstaltungen für Maislabyrinth Erfurt
REFRESH-INTERVAL;VALUE=DURATION:PT1H
X-Robots-Tag:noindex
X-PUBLISHED-TTL:PT1H
BEGIN:VTIMEZONE
TZID:Europe/Berlin
BEGIN:DAYLIGHT
TZOFFSETFROM:+0100
TZOFFSETTO:+0200
TZNAME:CEST
DTSTART:20250330T010000
END:DAYLIGHT
BEGIN:STANDARD
TZOFFSETFROM:+0200
TZOFFSETTO:+0100
TZNAME:CET
DTSTART:20251026T010000
END:STANDARD
BEGIN:DAYLIGHT
TZOFFSETFROM:+0100
TZOFFSETTO:+0200
TZNAME:CEST
DTSTART:20260329T010000
END:DAYLIGHT
BEGIN:STANDARD
TZOFFSETFROM:+0200
TZOFFSETTO:+0100
TZNAME:CET
DTSTART:20261025T010000
END:STANDARD
BEGIN:DAYLIGHT
TZOFFSETFROM:+0100
TZOFFSETTO:+0200
TZNAME:CEST
DTSTART:20270328T010000
END:DAYLIGHT
BEGIN:STANDARD
TZOFFSETFROM:+0200
TZOFFSETTO:+0100
TZNAME:CET
DTSTART:20271031T010000
END:STANDARD
END:VTIMEZONE
BEGIN:VEVENT
DTSTART;TZID=Europe/Berlin:20260430T170000
DTEND;TZID=Europe/Berlin:20260430T233000
DTSTAMP:20260425T200732
CREATED:20260406T081141Z
LAST-MODIFIED:20260421T063659Z
UID:824-1777568400-1777591800@maislabyrinth-erfurt.de
SUMMARY:Mai(s)feuer
DESCRIPTION:Es wird heiß beim Mai(s)feuer 2026\nGrillgut wie Wurst und Brätel\,\nBier aus dem Fass\, Limo in Flaschen\nKurze zum kippen.\nGlühwein & Kaffee\, eventuell auch Tee.\nFluppen nicht vergessen.\nund viel Gute Laune…\nEintritt ist frei und Kinder dürfen auch mit..!!!\nFür Getränke und Speisen ist gesorgt… müsst nix mitbringen\nMitgebrachte Speisen und Getränke müssen draußen bleiben ! ! !\nEuer Maisteam\nBeginn 17 Uhr\nEintritt frei ! \nFeuer an ca. 20 Uhr
URL:https://maislabyrinth-erfurt.de/event/maisfeuer/
LOCATION:Maislabyrinth Erfurt\, Demminer Straße\, Erfurt\, 99091\, Deutschland
ATTACH;FMTTYPE=image/jpeg:https://maislabyrinth-erfurt.de/wp-content/uploads/2024/02/56679240_2102645796479913_4848465263353397248_n.jpg
ORGANIZER;CN="Maislabyrinth Erfurt":MAILTO:info@maislabyrinth-erfurt.de
END:VEVENT
END:VCALENDAR