BEGIN:VCALENDAR
VERSION:2.0
PRODID:-//Maislabyrinth Erfurt - ECPv6.15.15//NONSGML v1.0//EN
CALSCALE:GREGORIAN
METHOD:PUBLISH
X-WR-CALNAME:Maislabyrinth Erfurt
X-ORIGINAL-URL:https://maislabyrinth-erfurt.de
X-WR-CALDESC:Veranstaltungen für Maislabyrinth Erfurt
REFRESH-INTERVAL;VALUE=DURATION:PT1H
X-Robots-Tag:noindex
X-PUBLISHED-TTL:PT1H
BEGIN:VTIMEZONE
TZID:Europe/Berlin
BEGIN:DAYLIGHT
TZOFFSETFROM:+0100
TZOFFSETTO:+0200
TZNAME:CEST
DTSTART:20250330T010000
END:DAYLIGHT
BEGIN:STANDARD
TZOFFSETFROM:+0200
TZOFFSETTO:+0100
TZNAME:CET
DTSTART:20251026T010000
END:STANDARD
BEGIN:DAYLIGHT
TZOFFSETFROM:+0100
TZOFFSETTO:+0200
TZNAME:CEST
DTSTART:20260329T010000
END:DAYLIGHT
BEGIN:STANDARD
TZOFFSETFROM:+0200
TZOFFSETTO:+0100
TZNAME:CET
DTSTART:20261025T010000
END:STANDARD
BEGIN:DAYLIGHT
TZOFFSETFROM:+0100
TZOFFSETTO:+0200
TZNAME:CEST
DTSTART:20270328T010000
END:DAYLIGHT
BEGIN:STANDARD
TZOFFSETFROM:+0200
TZOFFSETTO:+0100
TZNAME:CET
DTSTART:20271031T010000
END:STANDARD
END:VTIMEZONE
BEGIN:VEVENT
DTSTART;TZID=Europe/Berlin:20260501T110000
DTEND;TZID=Europe/Berlin:20260501T180000
DTSTAMP:20260425T214226
CREATED:20260406T081325Z
LAST-MODIFIED:20260406T081325Z
UID:826-1777633200-1777658400@maislabyrinth-erfurt.de
SUMMARY:1.Mai ist Kinder&FamilienTag
DESCRIPTION:Lasst uns alle froh und munter sein.\nWir feiern mit Euch das Groß und Klein. \nHüpfburgen\,\nKinderschminken\nSandkiste\nKicker\nTischtennis \nGrill\, Kaffee & Kuchen \nu.v.m \nKinder: 6 € 1 – 16 Jahre (inkl. Hüpfburgen & Sport)\nErwachsene: 4 €\nKleinkinder: unter 1 Jahr Frei! \nBeginn 11 Uhr\nEnde 18 Uhr
URL:https://maislabyrinth-erfurt.de/event/1-mai-ist-kinderfamilientag-3/
LOCATION:Maislabyrinth Erfurt\, Demminer Straße\, Erfurt\, 99091\, Deutschland
ATTACH;FMTTYPE=image/jpeg:https://maislabyrinth-erfurt.de/wp-content/uploads/2024/02/420080696_886399700156554_3298697221881871754_n.jpg
ORGANIZER;CN="Maislabyrinth Erfurt":MAILTO:info@maislabyrinth-erfurt.de
END:VEVENT
END:VCALENDAR