BEGIN:VCALENDAR
VERSION:2.0
PRODID:-//Maislabyrinth Erfurt - ECPv6.15.15//NONSGML v1.0//EN
CALSCALE:GREGORIAN
METHOD:PUBLISH
X-ORIGINAL-URL:https://maislabyrinth-erfurt.de
X-WR-CALDESC:Veranstaltungen für Maislabyrinth Erfurt
REFRESH-INTERVAL;VALUE=DURATION:PT1H
X-Robots-Tag:noindex
X-PUBLISHED-TTL:PT1H
BEGIN:VTIMEZONE
TZID:Europe/Berlin
BEGIN:DAYLIGHT
TZOFFSETFROM:+0100
TZOFFSETTO:+0200
TZNAME:CEST
DTSTART:20250330T010000
END:DAYLIGHT
BEGIN:STANDARD
TZOFFSETFROM:+0200
TZOFFSETTO:+0100
TZNAME:CET
DTSTART:20251026T010000
END:STANDARD
BEGIN:DAYLIGHT
TZOFFSETFROM:+0100
TZOFFSETTO:+0200
TZNAME:CEST
DTSTART:20260329T010000
END:DAYLIGHT
BEGIN:STANDARD
TZOFFSETFROM:+0200
TZOFFSETTO:+0100
TZNAME:CET
DTSTART:20261025T010000
END:STANDARD
BEGIN:DAYLIGHT
TZOFFSETFROM:+0100
TZOFFSETTO:+0200
TZNAME:CEST
DTSTART:20270328T010000
END:DAYLIGHT
BEGIN:STANDARD
TZOFFSETFROM:+0200
TZOFFSETTO:+0100
TZNAME:CET
DTSTART:20271031T010000
END:STANDARD
END:VTIMEZONE
BEGIN:VEVENT
DTSTART;TZID=Europe/Berlin:20260822T150000
DTEND;TZID=Europe/Berlin:20260822T233000
DTSTAMP:20260426T054021
CREATED:20260406T082546Z
LAST-MODIFIED:20260406T082546Z
UID:843-1787410800-1787441400@maislabyrinth-erfurt.de
SUMMARY:5 Jahre Melodisches Treiben Open Air @MaisLabyrinth Erfurt
DESCRIPTION:5 Jahre Melodisches Treiben Open Air im Maislabyrinth 🌞🌽🌜 \nFünf Jahre voller tanzender Momente\, verbindender Klänge und dieser besonderen Energie\, wenn Menschen\, Musik und Atmosphäre zu etwas Größerem verschmelzen.\nLetztes Jahr haben wir ein neues Kapitel aufgeschlagen 🍃🌽🌞🌜\nMitten im Maislabyrinth in Erfurt.\nRaus aus dem Gewohnten\, hinein in die Natur. Zwischen hohen Pflanzen\, warmem Sommerlicht und raschelnden Blättern ist etwas Magisches entstanden.\nUnd genau dort feiern wir dieses Jahr unser 5 jähriges Jubiläum.\nMit viel Liebe zum Detail\, verspielten Videoanimationen\, Lichtinstallationen und einem Line Up\, das euch durch den Sommer trägt: \nTanzwiese 🌳🌞 15 -23Uhr \n🌽 Jil Tanner ( KNKT / MOOD )\n🌽 Gunjah ( Katermukke / Showboxx )\n🌽 Mac-Kee (Unique Place/Soul Pattern)\n🌽 Adam Reise ( Mojn / KeepYourSelf ) \nTanz-Bar 🍹🌜 ab 23Uhr \n🌽 Monastic Kid (MT / Radio Electronica)\n🌽 Mija Flow ( Melodisches Treiben ) \nEin Ort zum Verlaufen und Wiederfinden.\nZum Tanzen\, Lächeln und Abschalten. \nUnd wer nach dem Labyrinth noch nicht genug hat 🌜\nAb 23 Uhr geht es in kleiner\, gemütlicher Runde mit einer Aftershow weiter – mit Mija Flow & Monastic Kid. \nLasst uns gemeinsam 5 Jahre Melodisches Treiben feiern\, unter freiem Himmel\, zwischen den Maisreihen. \nTicket VVK ab sofort online und in der Bio zu finden 🌞🌽🌜💚
URL:https://maislabyrinth-erfurt.de/event/5-jahre-melodisches-treiben-open-air-maislabyrinth-erfurt/
LOCATION:Maislabyrinth Erfurt\, Demminer Straße\, Erfurt\, 99091\, Deutschland
ATTACH;FMTTYPE=image/jpeg:https://maislabyrinth-erfurt.de/wp-content/uploads/2026/04/649044356_921019566983633_330219701590421286_n.jpg
ORGANIZER;CN="Maislabyrinth Erfurt":MAILTO:info@maislabyrinth-erfurt.de
END:VEVENT
END:VCALENDAR