BEGIN:VCALENDAR
VERSION:2.0
PRODID:-//Maislabyrinth Erfurt - ECPv6.15.15//NONSGML v1.0//EN
CALSCALE:GREGORIAN
METHOD:PUBLISH
X-ORIGINAL-URL:https://maislabyrinth-erfurt.de
X-WR-CALDESC:Veranstaltungen für Maislabyrinth Erfurt
REFRESH-INTERVAL;VALUE=DURATION:PT1H
X-Robots-Tag:noindex
X-PUBLISHED-TTL:PT1H
BEGIN:VTIMEZONE
TZID:Europe/Berlin
BEGIN:DAYLIGHT
TZOFFSETFROM:+0100
TZOFFSETTO:+0200
TZNAME:CEST
DTSTART:20250330T010000
END:DAYLIGHT
BEGIN:STANDARD
TZOFFSETFROM:+0200
TZOFFSETTO:+0100
TZNAME:CET
DTSTART:20251026T010000
END:STANDARD
BEGIN:DAYLIGHT
TZOFFSETFROM:+0100
TZOFFSETTO:+0200
TZNAME:CEST
DTSTART:20260329T010000
END:DAYLIGHT
BEGIN:STANDARD
TZOFFSETFROM:+0200
TZOFFSETTO:+0100
TZNAME:CET
DTSTART:20261025T010000
END:STANDARD
BEGIN:DAYLIGHT
TZOFFSETFROM:+0100
TZOFFSETTO:+0200
TZNAME:CEST
DTSTART:20270328T010000
END:DAYLIGHT
BEGIN:STANDARD
TZOFFSETFROM:+0200
TZOFFSETTO:+0100
TZNAME:CET
DTSTART:20271031T010000
END:STANDARD
END:VTIMEZONE
BEGIN:VEVENT
DTSTART;TZID=Europe/Berlin:20260501T110000
DTEND;TZID=Europe/Berlin:20260501T180000
DTSTAMP:20260425T232146
CREATED:20260406T081325Z
LAST-MODIFIED:20260406T081325Z
UID:826-1777633200-1777658400@maislabyrinth-erfurt.de
SUMMARY:1.Mai ist Kinder&FamilienTag
DESCRIPTION:Lasst uns alle froh und munter sein.\nWir feiern mit Euch das Groß und Klein. \nHüpfburgen\,\nKinderschminken\nSandkiste\nKicker\nTischtennis \nGrill\, Kaffee & Kuchen \nu.v.m \nKinder: 6 € 1 – 16 Jahre (inkl. Hüpfburgen & Sport)\nErwachsene: 4 €\nKleinkinder: unter 1 Jahr Frei! \nBeginn 11 Uhr\nEnde 18 Uhr
URL:https://maislabyrinth-erfurt.de/event/1-mai-ist-kinderfamilientag-3/
LOCATION:Maislabyrinth Erfurt\, Demminer Straße\, Erfurt\, 99091\, Deutschland
ATTACH;FMTTYPE=image/jpeg:https://maislabyrinth-erfurt.de/wp-content/uploads/2024/02/420080696_886399700156554_3298697221881871754_n.jpg
ORGANIZER;CN="Maislabyrinth Erfurt":MAILTO:info@maislabyrinth-erfurt.de
END:VEVENT
BEGIN:VEVENT
DTSTART;TZID=Europe/Berlin:20260502T100000
DTEND;TZID=Europe/Berlin:20260502T180000
DTSTAMP:20260425T232146
CREATED:20260406T081554Z
LAST-MODIFIED:20260406T081554Z
UID:830-1777716000-1777744800@maislabyrinth-erfurt.de
SUMMARY:FrühlingsFest ein Abenteuer-Wochenende für Groß & Klein
DESCRIPTION:🌸 FRÜHLING\, SONNE\, ABENTEUER! 🌸 \n🎈 3 TAGE VOLLER ABENTEUER: Das große Familien-Wochenende! 🎈\nIhr habt noch keine Pläne für das lange Mai-Wochenende? Dann ab zu uns! Von Freitag bis Sonntag verwandeln wir unser Gelände in ein Paradies für kleine Entdecker\, Hüpf-Profis und Tierfreunde. 🦙✨ \nOb Action auf den Hüpfburgen\, eine flauschige Alpakawanderung oder das nächste Lieblingsspielzeug vom Kinder-Trödelmarkt – hier ist für jeden etwas dabei! \n🗓️ WANN & WAS?\nFREITAG (01.05.) | 11 – 18 Uhr\nDer perfekte Start in den Feiertag! Hüpfburgen\, Alpakas\, Kinderschminken & Trödelmarkt. \nSAMSTAG (02.05.) | 10 – 18 Uhr\nDas volle Programm PLUS: Kinderdisco von 14 bis 18 Uhr! 💃🕺 Schmeißt euch in Schale und tanzt mit uns! \nSONNTAG (03.05.) | 10 – 18 Uhr\nGemütlicher Ausklang mit ganz viel Hüpfspaß und bunten Gesichtern beim Kinderschminken. \n✨ DIE HIGHLIGHTS:\n🏰 Riesige Hüpfburgen-Landschaft \n🦙 Flauschige Alpakawanderungen (Kamera nicht vergessen!) \n🧸 Kinder-Trödelmarkt (Stöbern & Schätze finden) \n🎨 Kreatives Kinderschminken \n🎶 Samstags-Special: Die große Kinder-Disco \n📍 Wo? Maislabyrinth Erfurt\n🎟️ Eintritt:\nKinder: 6 € 1 – 16 Jahre (inkl. Hüpfburgen & Sport)\nErwachsene: 4 €\nKleinkinder: unter 1 Jahr Frei \nExtras: Schminken & Alpakas extra. \nMarkiert eure Freunde\, teilt die Veranstaltung und bringt die ganze Familie mit. Wir freuen uns auf drei Tage voller Action und strahlender Kinderaugen! 😍👇 \n#Familienzeit #MaiAusflug #AlpakaLiebe #Kinderparty #Hüpfburgenspaß #Maislabyrinth
URL:https://maislabyrinth-erfurt.de/event/fruehlingsfest-ein-abenteuer-wochenende-fuer-gross-klein/
LOCATION:Maislabyrinth Erfurt\, Demminer Straße\, Erfurt\, 99091\, Deutschland
ATTACH;FMTTYPE=image/jpeg:https://maislabyrinth-erfurt.de/wp-content/uploads/2026/04/651041516_1519313130198538_7662198034661933927_n.jpg
ORGANIZER;CN="Maislabyrinth Erfurt":MAILTO:info@maislabyrinth-erfurt.de
END:VEVENT
BEGIN:VEVENT
DTSTART;TZID=Europe/Berlin:20260503T100000
DTEND;TZID=Europe/Berlin:20260503T180000
DTSTAMP:20260425T232146
CREATED:20260406T081730Z
LAST-MODIFIED:20260406T081730Z
UID:833-1777802400-1777831200@maislabyrinth-erfurt.de
SUMMARY:Familien-FrühlingsFest ein Abenteuer-Wochenende für Groß & Klein
DESCRIPTION:🌸 FRÜHLING\, SONNE\, ABENTEUER! 🌸 \n🎈 3 TAGE VOLLER ABENTEUER: Das große Familien-Wochenende! 🎈\nIhr habt noch keine Pläne für das lange Mai-Wochenende? Dann ab zu uns! Von Freitag bis Sonntag verwandeln wir unser Gelände in ein Paradies für kleine Entdecker\, Hüpf-Profis und Tierfreunde. 🦙✨ \nOb Action auf den Hüpfburgen\, eine flauschige Alpakawanderung oder das nächste Lieblingsspielzeug vom Kinder-Trödelmarkt – hier ist für jeden etwas dabei! \n🗓️ WANN & WAS?\nFREITAG (01.05.) | 11 – 18 Uhr\nDer perfekte Start in den Feiertag! Hüpfburgen\, Alpakas\, Kinderschminken & Trödelmarkt. \nSAMSTAG (02.05.) | 10 – 18 Uhr\nDas volle Programm PLUS: Kinderdisco von 14 bis 18 Uhr! 💃🕺 Schmeißt euch in Schale und tanzt mit uns! \nSONNTAG (03.05.) | 10 – 18 Uhr\nGemütlicher Ausklang mit ganz viel Hüpfspaß und bunten Gesichtern beim Kinderschminken. \n✨ DIE HIGHLIGHTS:\n🏰 Riesige Hüpfburgen-Landschaft \n🦙 Flauschige Alpakawanderungen (Kamera nicht vergessen!) \n🧸 Kinder-Trödelmarkt (Stöbern & Schätze finden) \n🎨 Kreatives Kinderschminken \n🎶 Samstags-Special: Die große Kinder-Disco \n📍 Wo? Maislabyrinth Erfurt\n🎟️ Eintritt:\nKinder: 6 € 1 – 16 Jahre (inkl. Hüpfburgen & Sport)\nErwachsene: 4 €\nKleinkinder: unter 1 Jahr Frei \nExtras: Schminken & Alpakas extra. \nMarkiert eure Freunde\, teilt die Veranstaltung und bringt die ganze Familie mit. Wir freuen uns auf drei Tage voller Action und strahlender Kinderaugen! 😍👇 \n#Familienzeit #MaiAusflug #AlpakaLiebe #Kinderparty #Hüpfburgenspaß #Maislabyrinth
URL:https://maislabyrinth-erfurt.de/event/familien-fruehlingsfest-ein-abenteuer-wochenende-fuer-gross-klein/
LOCATION:Maislabyrinth Erfurt\, Demminer Straße\, Erfurt\, 99091\, Deutschland
ATTACH;FMTTYPE=image/jpeg:https://maislabyrinth-erfurt.de/wp-content/uploads/2026/04/651041516_1519313130198538_7662198034661933927_n.jpg
ORGANIZER;CN="Maislabyrinth Erfurt":MAILTO:info@maislabyrinth-erfurt.de
END:VEVENT
END:VCALENDAR