BEGIN:VCALENDAR
VERSION:2.0
PRODID:-//Maislabyrinth Erfurt - ECPv6.15.15//NONSGML v1.0//EN
CALSCALE:GREGORIAN
METHOD:PUBLISH
X-WR-CALNAME:Maislabyrinth Erfurt
X-ORIGINAL-URL:https://maislabyrinth-erfurt.de
X-WR-CALDESC:Veranstaltungen für Maislabyrinth Erfurt
REFRESH-INTERVAL;VALUE=DURATION:PT1H
X-Robots-Tag:noindex
X-PUBLISHED-TTL:PT1H
BEGIN:VTIMEZONE
TZID:Europe/Berlin
BEGIN:DAYLIGHT
TZOFFSETFROM:+0100
TZOFFSETTO:+0200
TZNAME:CEST
DTSTART:20250330T010000
END:DAYLIGHT
BEGIN:STANDARD
TZOFFSETFROM:+0200
TZOFFSETTO:+0100
TZNAME:CET
DTSTART:20251026T010000
END:STANDARD
BEGIN:DAYLIGHT
TZOFFSETFROM:+0100
TZOFFSETTO:+0200
TZNAME:CEST
DTSTART:20260329T010000
END:DAYLIGHT
BEGIN:STANDARD
TZOFFSETFROM:+0200
TZOFFSETTO:+0100
TZNAME:CET
DTSTART:20261025T010000
END:STANDARD
BEGIN:DAYLIGHT
TZOFFSETFROM:+0100
TZOFFSETTO:+0200
TZNAME:CEST
DTSTART:20270328T010000
END:DAYLIGHT
BEGIN:STANDARD
TZOFFSETFROM:+0200
TZOFFSETTO:+0100
TZNAME:CET
DTSTART:20271031T010000
END:STANDARD
END:VTIMEZONE
BEGIN:VEVENT
DTSTART;TZID=Europe/Berlin:20260627T100000
DTEND;TZID=Europe/Berlin:20260627T180000
DTSTAMP:20260426T005845
CREATED:20260406T081957Z
LAST-MODIFIED:20260406T081957Z
UID:835-1782554400-1782583200@maislabyrinth-erfurt.de
SUMMARY:Sommer Fest & Familienspaß.
DESCRIPTION:Titel: ☀️ Sommer\, Sonne\, Familienspaß! Unser großes Sommerfest steht vor der Tür! \nEndlich ist es wieder so weit! Wir laden euch alle ganz herzlich zu unserem diesjährigen Sommerfest ein. Packt die Kinder\, Oma\, Opa und die Nachbarn ein – wir feiern einen Tag lang die beste Zeit des Jahres! 🍦🎈 \nWas euch erwartet:\nSpiel & Spaß: Hüpfburg\, Kinderschminken und coole Mitmach-Aktionen für die Kleinen. \nSchlemmen: Von herzhaftem Grillgut bis hin zum bunten Kuchenbuffet ist für jeden Geschmack etwas dabei. \nAbkühlung: Kühle Drinks und Eis ohne Ende! 🍦🥤 \nGute Laune: Beste Musik und nette Gespräche in entspannter Atmosphäre.
URL:https://maislabyrinth-erfurt.de/event/sommer-fest-familienspass/
LOCATION:Maislabyrinth Erfurt\, Demminer Straße\, Erfurt\, 99091\, Deutschland
ATTACH;FMTTYPE=image/jpeg:https://maislabyrinth-erfurt.de/wp-content/uploads/2026/04/658398391_1535167131946471_9098284540067906254_n.jpg
ORGANIZER;CN="Maislabyrinth Erfurt":MAILTO:info@maislabyrinth-erfurt.de
END:VEVENT
BEGIN:VEVENT
DTSTART;TZID=Europe/Berlin:20260628T100000
DTEND;TZID=Europe/Berlin:20260628T180000
DTSTAMP:20260426T005845
CREATED:20260406T082108Z
LAST-MODIFIED:20260406T082108Z
UID:838-1782640800-1782669600@maislabyrinth-erfurt.de
SUMMARY:Sommer Fest & Familienspaß.
DESCRIPTION:Titel: ☀️ Sommer\, Sonne\, Familienspaß! Unser großes Sommerfest steht vor der Tür! \nEndlich ist es wieder so weit! Wir laden euch alle ganz herzlich zu unserem diesjährigen Sommerfest ein. Packt die Kinder\, Oma\, Opa und die Nachbarn ein – wir feiern einen Tag lang die beste Zeit des Jahres! 🍦🎈 \nWas euch erwartet:\nSpiel & Spaß: Hüpfburg\, Kinderschminken und coole Mitmach-Aktionen für die Kleinen. \nSchlemmen: Von herzhaftem Grillgut bis hin zum bunten Kuchenbuffet ist für jeden Geschmack etwas dabei. \nAbkühlung: Kühle Drinks und Eis ohne Ende! 🍦🥤 \nGute Laune: Beste Musik und nette Gespräche in entspannter Atmosphäre.
URL:https://maislabyrinth-erfurt.de/event/sommer-fest-familienspass-2/
LOCATION:Maislabyrinth Erfurt\, Demminer Straße\, Erfurt\, 99091\, Deutschland
ATTACH;FMTTYPE=image/jpeg:https://maislabyrinth-erfurt.de/wp-content/uploads/2026/04/658398391_1535167131946471_9098284540067906254_n.jpg
ORGANIZER;CN="Maislabyrinth Erfurt":MAILTO:info@maislabyrinth-erfurt.de
END:VEVENT
END:VCALENDAR