BEGIN:VCALENDAR
VERSION:2.0
PRODID:-//Maislabyrinth Erfurt - ECPv6.15.15//NONSGML v1.0//EN
CALSCALE:GREGORIAN
METHOD:PUBLISH
X-WR-CALNAME:Maislabyrinth Erfurt
X-ORIGINAL-URL:https://maislabyrinth-erfurt.de
X-WR-CALDESC:Veranstaltungen für Maislabyrinth Erfurt
REFRESH-INTERVAL;VALUE=DURATION:PT1H
X-Robots-Tag:noindex
X-PUBLISHED-TTL:PT1H
BEGIN:VTIMEZONE
TZID:Europe/Berlin
BEGIN:DAYLIGHT
TZOFFSETFROM:+0100
TZOFFSETTO:+0200
TZNAME:CEST
DTSTART:20250330T010000
END:DAYLIGHT
BEGIN:STANDARD
TZOFFSETFROM:+0200
TZOFFSETTO:+0100
TZNAME:CET
DTSTART:20251026T010000
END:STANDARD
BEGIN:DAYLIGHT
TZOFFSETFROM:+0100
TZOFFSETTO:+0200
TZNAME:CEST
DTSTART:20260329T010000
END:DAYLIGHT
BEGIN:STANDARD
TZOFFSETFROM:+0200
TZOFFSETTO:+0100
TZNAME:CET
DTSTART:20261025T010000
END:STANDARD
BEGIN:DAYLIGHT
TZOFFSETFROM:+0100
TZOFFSETTO:+0200
TZNAME:CEST
DTSTART:20270328T010000
END:DAYLIGHT
BEGIN:STANDARD
TZOFFSETFROM:+0200
TZOFFSETTO:+0100
TZNAME:CET
DTSTART:20271031T010000
END:STANDARD
END:VTIMEZONE
BEGIN:VEVENT
DTSTART;TZID=Europe/Berlin:20260708T210000
DTEND;TZID=Europe/Berlin:20260708T233000
DTSTAMP:20260426T023617
CREATED:20260413T080525Z
LAST-MODIFIED:20260413T080525Z
UID:857-1783544400-1783553400@maislabyrinth-erfurt.de
SUMMARY:Nachtwanderung durch das Labyrinth mit Lagerfeuer und Stockbrot
DESCRIPTION:Lust auf ein Abenteuer???\nEs kann schön\, fantastisch oder auch gruselig sein\, zumindestens anders als sonst. Eine Nacht lang den Zauber der Dunkelheit bestaunen\, den Sternen folgen und auf Wanderschaft durch das Labyrinth eine ganz neue Welt erkunden. Dazu wird es ein Lagerfeuer geben. Stockbrot für den kleinen Hunger und andere Herrlichkeiten an der Bar.\nPS.: Taschenlampen nicht vergessen.\nbis dann\nEintritt:\nErwachsene: 4\,50€\nKind 3\,50€
URL:https://maislabyrinth-erfurt.de/event/nachtwanderung-durch-das-labyrinth-mit-lagerfeuer-und-stockbrot-3/
ATTACH;FMTTYPE=image/jpeg:https://maislabyrinth-erfurt.de/wp-content/uploads/2025/06/nachtwanderung_banner_maislabyrinth.jpg
END:VEVENT
BEGIN:VEVENT
DTSTART;TZID=Europe/Berlin:20260710T180000
DTEND;TZID=Europe/Berlin:20260710T233000
DTSTAMP:20260426T023617
CREATED:20260406T082312Z
LAST-MODIFIED:20260406T082312Z
UID:840-1783706400-1783726200@maislabyrinth-erfurt.de
SUMMARY:Depeche Mode Open Air Party
DESCRIPTION:The Best of Depeche Mode Open Air Tanznacht! 🎉 \nMach dich bereit für eine musikalische Zeitreise!\nWir feiern die unvergesslichen Sounds von Depeche Mode mit allem\, was dazugehört:\nSynthesizer-Sound\, treibende Beats und jede Menge Nostalgie. \nOb du Depeche Mode-Fan bist oder einfach Lust hast\, zu den größten Hits eines unvergesslichen Jahrzehnts zu tanzen – dieser Abend ist genau das Richtige für dich! \n🕺 Tanz durch die Nacht – zu Songs\, die Geschichte geschrieben haben.\n📀 Von „Enjoy the Silence“ bis „Personal Jesus“\n🍹 Drinks & food vor Ort\n🌙 Sommerabend\, Open Air\, gute Leute – was will man mehr? \n📅 Beginn: 18:00 Uhr\n🎟️ Eintritt frei\nBring deine Freunde mit\, pack gute Laune ein und\ntanz mit uns durch einen Abend voller Erinnerungen\, Musik und Magie! \nLet’s have a black celebration – together!
URL:https://maislabyrinth-erfurt.de/event/depeche-mode-open-air-party/
LOCATION:Maislabyrinth Erfurt\, Demminer Straße\, Erfurt\, 99091\, Deutschland
ATTACH;FMTTYPE=image/jpeg:https://maislabyrinth-erfurt.de/wp-content/uploads/2025/06/image-7.jpeg
ORGANIZER;CN="Maislabyrinth Erfurt":MAILTO:info@maislabyrinth-erfurt.de
END:VEVENT
END:VCALENDAR